BEGIN:VCALENDAR
VERSION:2.0
PRODID:SchoolNow
CALSCALE:GREGORIAN
BEGIN:VEVENT
UID:5574a398-fa16-11ec-9788-0a5c34d56f71
DTSTAMP:20220702T145037Z
SUMMARY:Progress Reports:
URL;VALUE=URI:https://www.tusd.org/schools/lincoln/lincoln-old/calendar/323
 6431/progress-reports
DTSTART;VALUE=DATE:20221014
DTEND;VALUE=DATE:20221015
END:VEVENT
END:VCALENDAR
