BEGIN:VCALENDAR
VERSION:2.0
PRODID:SchoolNow
CALSCALE:GREGORIAN
BEGIN:VEVENT
UID:37c73612-fa16-11ec-bcc2-0a5c34d56f71
DTSTAMP:20220702T144947Z
SUMMARY:Teachers Last Day
URL;VALUE=URI:https://www.tusd.org/schools/lincoln/lincoln-old/calendar/323
 6430/teachers-last-day
DTSTART;VALUE=DATE:20230616
DTEND;VALUE=DATE:20230617
END:VEVENT
END:VCALENDAR
