BEGIN:VCALENDAR
VERSION:2.0
PRODID:SchoolNow
CALSCALE:GREGORIAN
BEGIN:VEVENT
UID:265054b8-fa16-11ec-ad79-0a5c34d56f71
DTSTAMP:20230612T161823Z
SUMMARY:Students Last Day
URL;VALUE=URI:https://www.tusd.org/schools/lincoln/lincoln-old/calendar/323
 6429/students-last-day
DTSTART;VALUE=DATE:20230615
DTEND;VALUE=DATE:20230616
END:VEVENT
END:VCALENDAR
