BEGIN:VCALENDAR
VERSION:2.0
PRODID:SchoolNow
CALSCALE:GREGORIAN
BEGIN:VEVENT
UID:02971890-fa16-11ec-8aed-0a5c34d56f71
DTSTAMP:20221018T205203Z
SUMMARY:Invite-Only Conferences : Oct 20-21
URL;VALUE=URI:https://www.tusd.org/schools/lincoln/lincoln-old/calendar/323
 6427/invite-only-conferences-oct-20-21
DTSTART;VALUE=DATE:20221020
DTEND;VALUE=DATE:20221022
END:VEVENT
END:VCALENDAR
