BEGIN:VCALENDAR
VERSION:2.0
PRODID:SchoolNow
CALSCALE:GREGORIAN
BEGIN:VEVENT
UID:bfd63252-fa15-11ec-8ba6-0a5c34d56f71
DTSTAMP:20221107T141923Z
SUMMARY:Staff Development & Student Free Day
URL;VALUE=URI:https://www.tusd.org/schools/lincoln/lincoln-old/calendar/323
 6425/staff-development-student-free-days
DTSTART;VALUE=DATE:20221110
DTEND;VALUE=DATE:20221111
END:VEVENT
END:VCALENDAR
