BEGIN:VCALENDAR
VERSION:2.0
PRODID:SchoolNow
CALSCALE:GREGORIAN
BEGIN:VEVENT
UID:903949ee-fa15-11ec-8c3b-0ed417a33657
DTSTAMP:20220702T144506Z
SUMMARY:Teacher Parent Conferences
URL;VALUE=URI:https://www.tusd.org/schools/lincoln/lincoln-old/calendar/323
 6424/teacher-parent-conferences
DTSTART;VALUE=DATE:20230123
DTEND;VALUE=DATE:20230202
END:VEVENT
END:VCALENDAR
