BEGIN:VCALENDAR
VERSION:2.0
PRODID:SchoolNow
CALSCALE:GREGORIAN
BEGIN:VEVENT
UID:61d07d70-fa15-11ec-b73b-02a5a969191b
DTSTAMP:20220702T144348Z
SUMMARY:Teachers Report
URL;VALUE=URI:https://www.tusd.org/schools/lincoln/lincoln-old/calendar/323
 6423/teachers-report
DTSTART;VALUE=DATE:20220824
DTEND;VALUE=DATE:20220825
END:VEVENT
END:VCALENDAR
