BEGIN:VCALENDAR
VERSION:2.0
PRODID:SchoolNow
CALSCALE:GREGORIAN
BEGIN:VEVENT
UID:3f83eb3a-fa15-11ec-a3fb-02a5a969191b
DTSTAMP:20220702T144250Z
SUMMARY:Independence Day
URL;VALUE=URI:https://www.tusd.org/schools/lincoln/lincoln-old/calendar/323
 6422/independence-day
DTSTART;VALUE=DATE:20220704
DTEND;VALUE=DATE:20220705
END:VEVENT
END:VCALENDAR
