BEGIN:VCALENDAR
VERSION:2.0
PRODID:SchoolNow
CALSCALE:GREGORIAN
BEGIN:VEVENT
UID:3338a924-fa15-11ec-8bb2-02a5a969191b
DTSTAMP:20220702T144230Z
SUMMARY:First Day of School
URL;VALUE=URI:https://www.tusd.org/schools/lincoln/lincoln-old/calendar/323
 6421/first-day-of-school
DTSTART;VALUE=DATE:20220825
DTEND;VALUE=DATE:20220826
END:VEVENT
END:VCALENDAR
