BEGIN:VCALENDAR
VERSION:2.0
PRODID:SchoolNow
CALSCALE:GREGORIAN
BEGIN:VEVENT
UID:12c75644-dbbc-11ec-95d8-0a26b8331069
DTSTAMP:20220524T234855Z
SUMMARY:5th Grade Community Service Project: Project BOSS
URL;VALUE=URI:https://www.tusd.org/schools/lincoln/lincoln-old/calendar/320
 5900/5th-grade-community-service-project-project-boss
DTSTART;VALUE=DATE:20220523
DTEND;VALUE=DATE:20220609
ATTACH;FILENAME=Project BOSS Flyer - community service.pdf;FMTTYPE=applicat
 ion/pdf:https://campussuite-storage.s3.amazonaws.com/prod/484005/2752018e-
 59b7-11e6-943a-22000bd8490f/2422733/8bf7e084-dbb6-11ec-8516-0a95b32798e1/f
 ile/Project BOSS Flyer - community service.pdf
END:VEVENT
END:VCALENDAR
