BEGIN:VCALENDAR
VERSION:2.0
PRODID:SchoolNow
CALSCALE:GREGORIAN
BEGIN:VEVENT
UID:bfe6e236-db0d-11ec-8587-0274ecda883d
DTSTAMP:20220524T155552Z
SUMMARY:PORTFOLIO PICNIC DAY THIS FRIDAY!
URL;VALUE=URI:https://www.tusd.org/schools/lincoln/lincoln-old/calendar/320
 4673/portfolio-picnic-day-this-friday
DTSTART;VALUE=DATE:20220527
DTEND;VALUE=DATE:20220528
END:VEVENT
END:VCALENDAR
