BEGIN:VCALENDAR
VERSION:2.0
PRODID:SchoolNow
CALSCALE:GREGORIAN
BEGIN:VEVENT
UID:accf7144-c5bf-11ec-831f-0e7f0b3208e7
DTSTAMP:20220427T001917Z
SUMMARY:Teacher Appreciation Week April 25 -29
URL;VALUE=URI:https://www.tusd.org/schools/lincoln/lincoln-old/calendar/318
 2357/teacher-appreciation-week-april-25-29
DTSTART;VALUE=DATE:20220425
DTEND;VALUE=DATE:20220430
END:VEVENT
END:VCALENDAR
