BEGIN:VCALENDAR
VERSION:2.0
PRODID:SchoolNow
CALSCALE:GREGORIAN
BEGIN:VEVENT
UID:8a82e1c4-98bb-11ec-abe4-0e2e6b0b80a9
DTSTAMP:20220228T182845Z
SUMMARY:Lincoln's Bike Rodeo
URL;VALUE=URI:https://www.tusd.org/schools/lincoln/lincoln-old/calendar/311
 9034/lincolns-bike-rodeo
DTSTART;VALUE=DATE:20220310
DTEND;VALUE=DATE:20220311
ATTACH;FILENAME=bike rodeo.pdf;FMTTYPE=application/pdf:https://campussuite-
 storage.s3.amazonaws.com/prod/484005/2752018e-59b7-11e6-943a-22000bd8490f/
 2380995/01cf2036-98bb-11ec-b661-0217208a05cf/file/bike rodeo.pdf
ATTACH;FILENAME=Bike Rodeo Permission Slip 2022.pdf;FMTTYPE=application/pdf
 :https://campussuite-storage.s3.amazonaws.com/prod/484005/2752018e-59b7-11
 e6-943a-22000bd8490f/2381051/3f292928-98c4-11ec-a4e7-0ea36b37f811/file/Bik
 e Rodeo Permission Slip 2022.pdf
END:VEVENT
END:VCALENDAR
