BEGIN:VCALENDAR
VERSION:2.0
PRODID:SchoolNow
CALSCALE:GREGORIAN
BEGIN:VEVENT
UID:82cb7220-883a-11ec-abe9-0a5e86dd4cc5
DTSTAMP:20220207T172222Z
SUMMARY:Join Us on Zoom! PTA Association meeting\, Founders Day & Honorary 
 Service Awards
URL;VALUE=URI:https://www.tusd.org/schools/lincoln/lincoln-old/calendar/309
 4465/join-us-on-zoom-pta-association-meeting-founders-day-honorary-service
 -awards
DTSTART;VALUE=DATE:20220217
DTEND;VALUE=DATE:20220218
END:VEVENT
END:VCALENDAR
