BEGIN:VCALENDAR
VERSION:2.0
PRODID:SchoolNow
CALSCALE:GREGORIAN
BEGIN:VEVENT
UID:158d0a34-14f9-11ec-9e96-0ea708de9b65
DTSTAMP:20220928T013742Z
SUMMARY:Red Ribbon Week 10/24 to 10/28
URL;VALUE=URI:https://www.tusd.org/schools/lincoln/lincoln-old/calendar/273
 3940/red-ribbon-week
DTSTART;VALUE=DATE:20221024
DTEND;VALUE=DATE:20221029
ATTACH;FILENAME=FINAL.RED.RIBBON.09.14.22 (2).pdf;FMTTYPE=application/pdf:h
 ttps://campussuite-storage.s3.amazonaws.com/prod/484005/2752018e-59b7-11e6
 -943a-22000bd8490f/2483166/b57f3626-3ecd-11ed-8de6-0a53bdebac3b/file/FINAL
 .RED.RIBBON.09.14.22 (2).pdf
END:VEVENT
END:VCALENDAR
