BEGIN:VCALENDAR
VERSION:2.0
PRODID:SchoolNow
CALSCALE:GREGORIAN
BEGIN:VEVENT
UID:6c539664-02ff-11ec-afe0-0a40d2df2d85
DTSTAMP:20210822T041419Z
SUMMARY:Progress Reports
URL;VALUE=URI:https://www.tusd.org/schools/lincoln/lincoln-old/calendar/268
 3676/progress-reports-clone
DTSTART;VALUE=DATE:20220325
DTEND;VALUE=DATE:20220326
END:VEVENT
END:VCALENDAR
