BEGIN:VCALENDAR
VERSION:2.0
PRODID:SchoolNow
CALSCALE:GREGORIAN
BEGIN:VEVENT
UID:444ab1e8-02ff-11ec-a9ea-0a40d2df2d85
DTSTAMP:20210822T041312Z
SUMMARY:Invite-only Parent Conferences
URL;VALUE=URI:https://www.tusd.org/schools/lincoln/lincoln-old/calendar/268
 3675/parent-teacher-conferences-clone
DTSTART;VALUE=DATE:20220330
DTEND;VALUE=DATE:20220402
END:VEVENT
END:VCALENDAR
