BEGIN:VCALENDAR
VERSION:2.0
PRODID:SchoolNow
CALSCALE:GREGORIAN
BEGIN:VEVENT
UID:b5db64a2-02fe-11ec-8892-0a40d2df2d85
DTSTAMP:20210822T040913Z
SUMMARY:Last Day of School for Teachers
URL;VALUE=URI:https://www.tusd.org/schools/lincoln/lincoln-old/calendar/268
 3674/last-day-of-school-for-teachers
DTSTART;VALUE=DATE:20220617
DTEND;VALUE=DATE:20220618
END:VEVENT
END:VCALENDAR
