BEGIN:VCALENDAR
VERSION:2.0
PRODID:SchoolNow
CALSCALE:GREGORIAN
BEGIN:VEVENT
UID:bae999b0-d08a-11eb-9962-0ecf42fd7255
DTSTAMP:20230531T185411Z
SUMMARY:Juneteenth  - Celebrating Freedom Day.
URL;VALUE=URI:https://www.tusd.org/schools/lincoln/lincoln-old/calendar/262
 3852/juneteenth-celebrating-freedom-day
DTSTART;VALUE=DATE:20230619
DTEND;VALUE=DATE:20230620
END:VEVENT
END:VCALENDAR
