BEGIN:VCALENDAR
VERSION:2.0
PRODID:SchoolNow
CALSCALE:GREGORIAN
BEGIN:VEVENT
UID:92d96648-ae8f-11eb-94f7-0ab29f729be3
DTSTAMP:20220924T012617Z
SUMMARY:Chick fil A Fundraiser (Redondo Bch/Crenshaw Blvd) 3pm - 8:30pm
LOCATION:16210 Crenshaw Blvd\, Gardena\, CA 90249
URL;VALUE=URI:https://www.tusd.org/schools/lincoln/lincoln-old/calendar/259
 5030/chick-fil-a-fundraiser-redondo-bch-crenshaw-blvd-3pm-8pm
DTSTART;VALUE=DATE:20220927
DTEND;VALUE=DATE:20220928
ATTACH;FILENAME=ChickFila Fundraiser.pdf;FMTTYPE=application/pdf:https://ca
 mpussuite-storage.s3.amazonaws.com/prod/484005/2752018e-59b7-11e6-943a-220
 00bd8490f/2478249/76be549e-361c-11ed-882f-0210cdedd2ff/file/ChickFila Fund
 raiser.pdf
END:VEVENT
END:VCALENDAR
