BEGIN:VCALENDAR
VERSION:2.0
PRODID:SchoolNow
CALSCALE:GREGORIAN
BEGIN:VEVENT
UID:880c235c-8678-11eb-8d8d-02b69ac12895
DTSTAMP:20221007T183812Z
SUMMARY:Purchase Spirit Wear September 18 until October 1st.
URL;VALUE=URI:https://www.tusd.org/schools/lincoln/lincoln-old/calendar/255
 7425/purchase-spirit-wear-now-until-april-2nd
DTSTART;VALUE=DATE:20220918
DTEND;VALUE=DATE:20221002
ATTACH;FILENAME=Lincoln Spirit Wear.Fall22.pdf;FMTTYPE=application/pdf:http
 s://campussuite-storage.s3.amazonaws.com/prod/484005/2752018e-59b7-11e6-94
 3a-22000bd8490f/2476590/69fd0fe4-3459-11ed-bd7b-0a15af189435/file/Lincoln 
 Spirit Wear.Fall22.pdf
END:VEVENT
END:VCALENDAR
