BEGIN:VCALENDAR
VERSION:2.0
PRODID:SchoolNow
CALSCALE:GREGORIAN
BEGIN:VEVENT
UID:6a59e580-7c3a-11eb-b081-021be22a32c1
DTSTAMP:20220308T163838Z
SUMMARY:Buddies Week
URL;VALUE=URI:https://www.tusd.org/schools/lincoln/lincoln-old/calendar/255
 0988/buddies-week
DTSTART;VALUE=DATE:20220321
DTEND;VALUE=DATE:20220326
ATTACH;FILENAME=newbuddiesweek.2022.pdf;FMTTYPE=application/pdf:https://cam
 pussuite-storage.s3.amazonaws.com/prod/484005/2752018e-59b7-11e6-943a-2200
 0bd8490f/2385094/e7e75f82-9efd-11ec-a726-0e3fab96fd9d/file/newbuddiesweek.
 2022.pdf
END:VEVENT
END:VCALENDAR
