BEGIN:VCALENDAR
VERSION:2.0
PRODID:SchoolNow
CALSCALE:GREGORIAN
BEGIN:VEVENT
UID:ab17f63a-402a-11eb-add7-0a5ba4d3bc7d
DTSTAMP:20220610T202829Z
SUMMARY:Last Day of School for Students
URL;VALUE=URI:https://www.tusd.org/schools/lincoln/lincoln-old/calendar/251
 2902/last-day-of-school
DTSTART;VALUE=DATE:20220616
DTEND;VALUE=DATE:20220617
END:VEVENT
END:VCALENDAR
