BEGIN:VCALENDAR
VERSION:2.0
PRODID:SchoolNow
CALSCALE:GREGORIAN
BEGIN:VEVENT
UID:faa3eee0-4028-11eb-8658-0a5ba4d3bc7d
DTSTAMP:20210822T041156Z
SUMMARY:Parent Conferences
URL;VALUE=URI:https://www.tusd.org/schools/lincoln/lincoln-old/calendar/251
 2888/parent-conferences
DTSTART;VALUE=DATE:20220124
DTEND;VALUE=DATE:20220203
END:VEVENT
END:VCALENDAR
