BEGIN:VCALENDAR
VERSION:2.0
PRODID:SchoolNow
CALSCALE:GREGORIAN
BEGIN:VEVENT
UID:cf7f4dae-4028-11eb-8f0e-0a5ba4d3bc7d
DTSTAMP:20220310T204701Z
SUMMARY:No School: Student Free Day
URL;VALUE=URI:https://www.tusd.org/schools/lincoln/lincoln-old/calendar/251
 2886/no-school-student-free-day
DTSTART;VALUE=DATE:20220317
DTEND;VALUE=DATE:20220319
END:VEVENT
END:VCALENDAR
