BEGIN:VCALENDAR
VERSION:2.0
PRODID:SchoolNow
CALSCALE:GREGORIAN
BEGIN:VEVENT
UID:4fc6cba0-4028-11eb-90f0-0a5ba4d3bc7d
DTSTAMP:20210822T040625Z
SUMMARY:No School - Memorial Day
URL;VALUE=URI:https://www.tusd.org/schools/lincoln/lincoln-old/calendar/251
 2885/no-school-memorial-day
DTSTART;VALUE=DATE:20220530
DTEND;VALUE=DATE:20220531
END:VEVENT
END:VCALENDAR
