BEGIN:VCALENDAR
VERSION:2.0
PRODID:SchoolNow
CALSCALE:GREGORIAN
BEGIN:VEVENT
UID:2ed7a964-4028-11eb-a614-0a5ba4d3bc7d
DTSTAMP:20220207T181654Z
SUMMARY:No School: President's Day
URL;VALUE=URI:https://www.tusd.org/schools/lincoln/lincoln-old/calendar/251
 2884/no-school-presidents-day
DTSTART;VALUE=DATE:20220221
DTEND;VALUE=DATE:20220222
END:VEVENT
END:VCALENDAR
