BEGIN:VCALENDAR
VERSION:2.0
PRODID:SchoolNow
CALSCALE:GREGORIAN
BEGIN:VEVENT
UID:0f047f72-4028-11eb-a53a-0a5ba4d3bc7d
DTSTAMP:20220207T180957Z
SUMMARY:No School - Lincoln's Birthday
URL;VALUE=URI:https://www.tusd.org/schools/lincoln/lincoln-old/calendar/251
 2883/no-school-lincolns-birthday
DTSTART;VALUE=DATE:20220211
DTEND;VALUE=DATE:20220212
END:VEVENT
END:VCALENDAR
