BEGIN:VCALENDAR
VERSION:2.0
PRODID:SchoolNow
CALSCALE:GREGORIAN
BEGIN:VEVENT
UID:efe82cce-4027-11eb-a5f0-0a5ba4d3bc7d
DTSTAMP:20221216T195329Z
SUMMARY:No School - Martin Luther King Jr. Day
URL;VALUE=URI:https://www.tusd.org/schools/lincoln/lincoln-old/calendar/251
 2882/no-school-martin-luther-king-jr-day
DTSTART;VALUE=DATE:20230116
DTEND;VALUE=DATE:20230117
END:VEVENT
END:VCALENDAR
