BEGIN:VCALENDAR
VERSION:2.0
PRODID:SchoolNow
CALSCALE:GREGORIAN
BEGIN:VEVENT
UID:e4b160a0-3b05-11ea-a122-1273c936f721
DTSTAMP:20210822T040737Z
SUMMARY:Spring Break - No School
URL;VALUE=URI:https://www.tusd.org/schools/lincoln/lincoln-old/calendar/218
 3703/spring-break-no-school
DTSTART;VALUE=DATE:20220404
DTEND;VALUE=DATE:20220409
END:VEVENT
END:VCALENDAR
