BEGIN:VCALENDAR
VERSION:2.0
PRODID:SchoolNow
CALSCALE:GREGORIAN
BEGIN:VEVENT
UID:f7b8b53a-3b01-11ea-85eb-0a75b5d99f1d
DTSTAMP:20210822T041457Z
SUMMARY:Achievement Reports
URL;VALUE=URI:https://www.tusd.org/schools/lincoln/lincoln-old/calendar/218
 3684/achievement-reports
DTSTART;VALUE=DATE:20220121
DTEND;VALUE=DATE:20220122
END:VEVENT
END:VCALENDAR
