BEGIN:VCALENDAR
VERSION:2.0
PRODID:SchoolNow
CALSCALE:GREGORIAN
BEGIN:VEVENT
UID:58226356-3aff-11ea-af5a-0ababf40dabb
DTSTAMP:20220114T201303Z
SUMMARY:STEAM Fair  Thursday\, February 24\, 2022
URL;VALUE=URI:https://www.tusd.org/schools/lincoln/lincoln-old/calendar/218
 3664/steam-fair
DTSTART;VALUE=DATE:20220224
DTEND;VALUE=DATE:20220225
END:VEVENT
END:VCALENDAR
