BEGIN:VCALENDAR
VERSION:2.0
PRODID:SchoolNow
CALSCALE:GREGORIAN
BEGIN:VEVENT
UID:aafb50e4-d9b4-11e9-ae4d-12dd148c6160
DTSTAMP:20220228T184721Z
SUMMARY:Winterfest!  Tickets on sale now!
URL;VALUE=URI:https://www.tusd.org/schools/lincoln/lincoln-old/calendar/209
 7665/winterfest
DTSTART;VALUE=DATE:20220312
DTEND;VALUE=DATE:20220313
ATTACH;FILENAME=Winterfest 2022 Tickets Advertisement (1).pdf;FMTTYPE=appli
 cation/pdf:https://campussuite-storage.s3.amazonaws.com/prod/484005/275201
 8e-59b7-11e6-943a-22000bd8490f/2381074/67412e36-98c6-11ec-86be-0a6566b2775
 5/file/Winterfest 2022 Tickets Advertisement (1).pdf
END:VEVENT
END:VCALENDAR
