BEGIN:VCALENDAR
VERSION:2.0
PRODID:SchoolNow
CALSCALE:GREGORIAN
BEGIN:VEVENT
UID:23ded554-c1d4-11f0-b21b-0a58a9feac02
DTSTAMP:20251216T200039Z
SUMMARY:Fun Run
URL;VALUE=URI:https://www.tusd.org/schools/lincoln/calendar/8796663/fun-run
DTSTART;VALUE=DATE:20260206
DTEND;VALUE=DATE:20260207
END:VEVENT
END:VCALENDAR
