BEGIN:VCALENDAR
VERSION:2.0
PRODID:SchoolNow
CALSCALE:GREGORIAN
BEGIN:VEVENT
UID:e6bc16f2-129e-11f1-a725-0a58a9feac02
DTSTAMP:20260225T230831Z
SUMMARY:Asian American & Pacific Islander Heritage Month
URL;VALUE=URI:https://www.tusd.org/schools/launch/calendar/8871863/asian-am
 erican-pacific-islander-heritage-month
DTSTART;VALUE=DATE:20270501
DTEND;VALUE=DATE:20270601
END:VEVENT
END:VCALENDAR
