BEGIN:VCALENDAR
VERSION:2.0
PRODID:SchoolNow
CALSCALE:GREGORIAN
BEGIN:VEVENT
UID:e6bc1418-129e-11f1-ba14-0a58a9feac02
DTSTAMP:20260225T230831Z
SUMMARY:Disability Awareness Month
URL;VALUE=URI:https://www.tusd.org/schools/launch/calendar/8871860/disabili
 ty-awareness-month
DTSTART;VALUE=DATE:20260301
DTEND;VALUE=DATE:20260401
END:VEVENT
END:VCALENDAR
