BEGIN:VCALENDAR
VERSION:2.0
PRODID:SchoolNow
CALSCALE:GREGORIAN
BEGIN:VEVENT
UID:e6bc1328-129e-11f1-93d4-0a58a9feac02
DTSTAMP:20260225T230831Z
SUMMARY:Women's History Month
URL;VALUE=URI:https://www.tusd.org/schools/launch/calendar/8871859/womens-h
 istory-month
DTSTART;VALUE=DATE:20270301
DTEND;VALUE=DATE:20270401
END:VEVENT
END:VCALENDAR
