BEGIN:VCALENDAR
VERSION:2.0
PRODID:SchoolNow
CALSCALE:GREGORIAN
BEGIN:VEVENT
UID:e6bc103a-129e-11f1-9cb9-0a58a9feac02
DTSTAMP:20260225T230831Z
SUMMARY:Arab American Heritage Month
URL;VALUE=URI:https://www.tusd.org/schools/launch/calendar/8871856/arab-ame
 rican-heritage-month
DTSTART;VALUE=DATE:20260401
DTEND;VALUE=DATE:20260501
END:VEVENT
END:VCALENDAR
