BEGIN:VCALENDAR
VERSION:2.0
PRODID:SchoolNow
CALSCALE:GREGORIAN
BEGIN:VEVENT
UID:e6bc0db0-129e-11f1-bdd3-0a58a9feac02
DTSTAMP:20260225T230831Z
SUMMARY:Hispanic Heritage Month
URL;VALUE=URI:https://www.tusd.org/schools/launch/calendar/8871854/hispanic
 -heritage-month
DTSTART;VALUE=DATE:20260915
DTEND;VALUE=DATE:20261016
END:VEVENT
END:VCALENDAR
