BEGIN:VCALENDAR
VERSION:2.0
PRODID:SchoolNow
CALSCALE:GREGORIAN
BEGIN:VEVENT
UID:e6bc0c48-129e-11f1-9842-0a58a9feac02
DTSTAMP:20260225T230831Z
SUMMARY:Black History Month
URL;VALUE=URI:https://www.tusd.org/schools/launch/calendar/8871853/black-hi
 story-month
DTSTART;VALUE=DATE:20270201
DTEND;VALUE=DATE:20270301
END:VEVENT
END:VCALENDAR
