BEGIN:VCALENDAR
VERSION:2.0
PRODID:SchoolNow
CALSCALE:GREGORIAN
BEGIN:VEVENT
UID:b68770e4-003e-11f0-ae3c-0affe26cedb9
DTSTAMP:20250313T190939Z
SUMMARY:Spring Break - No School
URL;VALUE=URI:https://www.tusd.org/schools/launch/calendar/7676491/spring-b
 reak-no-school
DTSTART:20250407T070100Z
DTEND:20250412T065500Z
END:VEVENT
END:VCALENDAR
