BEGIN:VCALENDAR
VERSION:2.0
PRODID:SchoolNow
CALSCALE:GREGORIAN
BEGIN:VEVENT
UID:476b9808-003d-11f0-a7a4-02549452eec7
DTSTAMP:20250313T185923Z
SUMMARY:LAUNCH  Spirit Day 3/27/2025
URL;VALUE=URI:https://www.tusd.org/schools/launch/calendar/7676490/launch-s
 pirit-day-3-27-2025
DTSTART:20250327T085600Z
DTEND:20250327T095600Z
END:VEVENT
END:VCALENDAR
