BEGIN:VCALENDAR
VERSION:2.0
PRODID:SchoolNow
CALSCALE:GREGORIAN
BEGIN:VEVENT
UID:d98da042-003c-11f0-80e1-0a58a9feac02
DTSTAMP:20250313T185619Z
SUMMARY:No School - District wide
URL;VALUE=URI:https://www.tusd.org/schools/launch/calendar/7676489/no-schoo
 l-district-wide
DTSTART:20250314T185100Z
DTEND:20250314T195100Z
END:VEVENT
END:VCALENDAR
