BEGIN:VCALENDAR
VERSION:2.0
PRODID:SchoolNow
CALSCALE:GREGORIAN
BEGIN:VEVENT
UID:3eb1cb50-d2d0-11ef-a2b9-0e7a7c1bb54b
DTSTAMP:20250114T233531Z
SUMMARY:LAUNCH Preschool PTA - Winter Fling
URL;VALUE=URI:https://www.tusd.org/schools/launch/calendar/7317444/launch-p
 reschool-pta-winter-fling
DTSTART;VALUE=DATE:20250130
DTEND;VALUE=DATE:20250131
END:VEVENT
END:VCALENDAR
