BEGIN:VCALENDAR
VERSION:2.0
PRODID:SchoolNow
CALSCALE:GREGORIAN
BEGIN:VEVENT
UID:242c3554-d2d0-11ef-b997-0a58a9feac02
DTSTAMP:20250114T233447Z
SUMMARY:LAUNCH Spirit Day-Wear your Hat to school
URL;VALUE=URI:https://www.tusd.org/schools/launch/calendar/7317440/launch-s
 pirit-day-wear-your-hat-to-school
DTSTART;VALUE=DATE:20250116
DTEND;VALUE=DATE:20250117
END:VEVENT
END:VCALENDAR
