BEGIN:VCALENDAR
VERSION:2.0
PRODID:SchoolNow
CALSCALE:GREGORIAN
BEGIN:VEVENT
UID:1261bd44-d2d0-11ef-bb38-02ac2df176cd
DTSTAMP:20250114T233417Z
SUMMARY:No School - In honor of Dr. Martin Luther King Jr.
URL;VALUE=URI:https://www.tusd.org/schools/launch/calendar/7317439/no-schoo
 l-in-honor-of-dr-martin-luther-king-jr
DTSTART;VALUE=DATE:20250120
DTEND;VALUE=DATE:20250121
END:VEVENT
END:VCALENDAR
