BEGIN:VCALENDAR
VERSION:2.0
PRODID:SchoolNow
CALSCALE:GREGORIAN
BEGIN:VEVENT
UID:e6dad444-d2cf-11ef-9089-02b0ab0f44fd
DTSTAMP:20250114T233304Z
SUMMARY:No School-Staff Development Day
URL;VALUE=URI:https://www.tusd.org/schools/launch/calendar/7317438/no-schoo
 l-staff-development-day
DTSTART;VALUE=DATE:20250117
DTEND;VALUE=DATE:20250118
END:VEVENT
END:VCALENDAR
