BEGIN:VCALENDAR
VERSION:2.0
PRODID:SchoolNow
CALSCALE:GREGORIAN
BEGIN:VEVENT
UID:407a2450-9e23-11ef-8ea8-0e9bf9889633
DTSTAMP:20241108T224611Z
SUMMARY:Picture Make-up Day
URL;VALUE=URI:https://www.tusd.org/schools/launch/calendar/6984889/picture-
 make-up-day
DTSTART;VALUE=DATE:20241119
DTEND;VALUE=DATE:20241120
END:VEVENT
END:VCALENDAR
