BEGIN:VCALENDAR
VERSION:2.0
PRODID:SchoolNow
CALSCALE:GREGORIAN
BEGIN:VEVENT
UID:91ffec76-9e21-11ef-b338-0a58a9feac02
DTSTAMP:20241108T223409Z
SUMMARY:Thanksgiving Break - No School
URL;VALUE=URI:https://www.tusd.org/schools/launch/calendar/6984880/thanksgi
 ving-break-no-school
DTSTART;VALUE=DATE:20241125
DTEND;VALUE=DATE:20241130
END:VEVENT
END:VCALENDAR
