BEGIN:VCALENDAR
VERSION:2.0
PRODID:SchoolNow
CALSCALE:GREGORIAN
BEGIN:VEVENT
UID:7b34e2b2-9e21-11ef-850c-0a58a9feac02
DTSTAMP:20241108T223330Z
SUMMARY:LAUNCH Spirit Day - Dress like a Rockstar
URL;VALUE=URI:https://www.tusd.org/schools/launch/calendar/6984878/launch-s
 pirit-day-dress-like-a-rockstar
DTSTART;VALUE=DATE:20241114
DTEND;VALUE=DATE:20241115
END:VEVENT
END:VCALENDAR
